BEGIN:VCALENDAR
VERSION:2.0
PRODID:-//hacksw/handcal//NONSGML v1.0//EN
BEGIN:VEVENT
DTSTART:20150618T100000
DTEND:20150618T120000
LOCATION:IUT Lumière Lyon 2 \n160, Boulevard de l'Université \n69500 BRON
ORGANIZER;CN=Quentin JAVELAS:MAILTO:quentin.javelas@univ-lyon2.fr
SUMMARY:DATA VIZ CONFÉRENCE : Comment visualiser les données ?
DESCRIPTION:Le département Statistique et Informatique Décisionnelle organise une Data Viz Conférence intitulée "Comment visualiser les données ?". Elle aura lieu le jeudi 18 juin 2015 dès 10h00 en Salle de...
URL:https://www.iutlumiereenreseau.fr/fr/event/data-viz-conference-comment-visualiser-les-donnees/2015/06/18/69
BEGIN:VALARM
TRIGGER:-P0DT1H0M0S
ACTION:DISPLAY
END:VALARM
END:VEVENT
END:VCALENDAR