BEGIN:VCALENDAR
VERSION:2.0
PRODID:-//hacksw/handcal//NONSGML v1.0//EN
BEGIN:VEVENT
DTSTART:20151126T183000
DTEND:20151126T200000
LOCATION:IUT Lumière - Bâtiment 1 \n160, Boulevard de l'Université \n69500 BRON
ORGANIZER;CN=Quentin JAVELAS:MAILTO:quentin.javelas@univ-lyon2.fr
SUMMARY:SOIRÉES DE L’ORIENTATION
DESCRIPTION:Vous êtes perdu ? Vous vous demandez quelle formation est faite pour vous ? Vous souhaitez vous réorienter mais vous hésitez ? \nVenez découvrir les formations proposées par l’IUT Lumière et trouvez...
URL:https://www.iutlumiereenreseau.fr/fr/event/soirees-de-l-orientation/2015/11/26/73
BEGIN:VALARM
TRIGGER:-P0DT1H0M0S
ACTION:DISPLAY
END:VALARM
END:VEVENT
END:VCALENDAR